Package: mitoClone2 Version: 1.12.0 Command: chmod a+r mitoClone2 -R && F:\biocbuild\bbs-3.20-bioc\R\bin\R.exe CMD build --keep-empty-dirs --no-resave-data mitoClone2 StartedAt: 2025-02-10 20:20:32 -0500 (Mon, 10 Feb 2025) EndedAt: 2025-02-10 20:28:45 -0500 (Mon, 10 Feb 2025) EllapsedTime: 492.9 seconds RetCode: 0 Status: OK PackageFile: mitoClone2_1.12.0.tar.gz PackageFileSize: 1.237 MiB