Package: mitoClone2 Version: 1.12.0 Command: /Library/Frameworks/R.framework/Resources/bin/R CMD INSTALL mitoClone2 StartedAt: 2025-02-10 15:40:47 -0500 (Mon, 10 Feb 2025) EndedAt: 2025-02-10 15:42:41 -0500 (Mon, 10 Feb 2025) EllapsedTime: 113.6 seconds RetCode: 0 Status: OK