Package: mitoClone2 Version: 1.12.0 Command: /Library/Frameworks/R.framework/Resources/bin/R CMD INSTALL mitoClone2 StartedAt: 2025-02-13 16:12:46 -0500 (Thu, 13 Feb 2025) EndedAt: 2025-02-13 16:13:47 -0500 (Thu, 13 Feb 2025) EllapsedTime: 60.7 seconds RetCode: 0 Status: OK