Package: mistyR Version: 1.16.0 Command: /home/biocbuild/bbs-3.21-bioc/R/bin/R CMD build --keep-empty-dirs --no-resave-data mistyR StartedAt: 2025-09-28 18:47:05 -0400 (Sun, 28 Sep 2025) EndedAt: 2025-09-28 18:49:11 -0400 (Sun, 28 Sep 2025) EllapsedTime: 126.1 seconds RetCode: 0 Status: OK PackageFile: mistyR_1.16.0.tar.gz PackageFileSize: 2.971 MiB