Package: mist Version: 1.2.0 Command: /home/biocbuild/bbs-3.22-bioc/R/bin/R CMD INSTALL mist StartedAt: 2025-11-06 15:34:49 -0500 (Thu, 06 Nov 2025) EndedAt: 2025-11-06 15:35:19 -0500 (Thu, 06 Nov 2025) EllapsedTime: 30.7 seconds RetCode: 0 Status: OK