Package: mist Version: 1.2.0 Command: /home/biocbuild/bbs-3.22-bioc/R/bin/R CMD build --keep-empty-dirs --no-resave-data --md5 mist StartedAt: 2025-11-06 18:44:05 -0500 (Thu, 06 Nov 2025) EndedAt: 2025-11-06 18:45:45 -0500 (Thu, 06 Nov 2025) EllapsedTime: 100.1 seconds RetCode: 0 Status: OK PackageFile: mist_1.2.0.tar.gz PackageFileSize: 508.1 KiB