Package: missMethyl Version: 1.42.0 Command: /home/biocbuild/bbs-3.21-bioc/R/bin/R CMD INSTALL missMethyl StartedAt: 2025-09-28 16:14:53 -0400 (Sun, 28 Sep 2025) EndedAt: 2025-09-28 16:19:49 -0400 (Sun, 28 Sep 2025) EllapsedTime: 295.1 seconds RetCode: 0 Status: OK