Package: missMethyl Version: 1.42.0 Command: /home/biocbuild/bbs-3.21-bioc/R/bin/R CMD build --keep-empty-dirs --no-resave-data missMethyl StartedAt: 2025-10-15 18:34:02 -0400 (Wed, 15 Oct 2025) EndedAt: 2025-10-15 18:49:32 -0400 (Wed, 15 Oct 2025) EllapsedTime: 929.8 seconds RetCode: 0 Status: OK PackageFile: missMethyl_1.42.0.tar.gz PackageFileSize: 1.432 MiB