Package: missMethyl Version: 1.42.0 Command: /Library/Frameworks/R.framework/Resources/bin/R CMD build --keep-empty-dirs --no-resave-data missMethyl StartedAt: 2025-05-12 21:06:49 -0400 (Mon, 12 May 2025) EndedAt: 2025-05-12 21:33:28 -0400 (Mon, 12 May 2025) EllapsedTime: 1599.0 seconds RetCode: 1 Status: ERROR PackageFile: None PackageFileSize: NA