Package: missMethyl Version: 1.42.0 Command: rm -rf missMethyl.buildbin-libdir && mkdir missMethyl.buildbin-libdir && /Users/biocbuild/BBS/utils/build-universal.sh missMethyl_1.42.0.tar.gz /Library/Frameworks/R.framework/Resources/bin/R missMethyl.buildbin-libdir StartedAt: 2025-05-06 13:00:25 -0400 (Tue, 06 May 2025) EndedAt: 2025-05-06 13:10:42 -0400 (Tue, 06 May 2025) EllapsedTime: 616.7 seconds RetCode: 0 Status: OK PackageFile: missMethyl_1.42.0.tgz PackageFileSize: 1.624 MiB