Package: missMethyl Version: 1.42.0 Maintainer: Belinda Phipson MaintainerEmail: phipson.b at wehi.edu.au git_url: https://git.bioconductor.org/packages/missMethyl git_branch: RELEASE_3_21 git_last_commit: ecd7988 git_last_commit_date: 2025-04-15 10:32:44 -0400 (Tue, 15 Apr 2025)