Package: mirTarRnaSeq Version: 1.18.0 Command: /home/biocbuild/bbs-3.22-bioc/R/bin/R CMD INSTALL mirTarRnaSeq StartedAt: 2025-11-20 15:59:04 -0500 (Thu, 20 Nov 2025) EndedAt: 2025-11-20 15:59:18 -0500 (Thu, 20 Nov 2025) EllapsedTime: 14.1 seconds RetCode: 0 Status: OK