Package: mirIntegrator Version: 1.36.0 Command: /Library/Frameworks/R.framework/Resources/bin/R CMD check --install=check:mirIntegrator.install-out.txt --library=/Library/Frameworks/R.framework/Resources/library --no-vignettes --timings mirIntegrator_1.36.0.tar.gz StartedAt: 2025-01-04 01:08:47 -0500 (Sat, 04 Jan 2025) EndedAt: 2025-01-04 01:11:33 -0500 (Sat, 04 Jan 2025) EllapsedTime: 165.2 seconds RetCode: 0 Status: OK CheckDir: mirIntegrator.Rcheck Warnings: 0