Package: mirIntegrator Version: 1.38.0 Maintainer: Diana Diaz MaintainerEmail: dmd at wayne.edu git_url: https://git.bioconductor.org/packages/mirIntegrator git_branch: RELEASE_3_21 git_last_commit: 026c65f git_last_commit_date: 2025-04-15 10:51:34 -0400 (Tue, 15 Apr 2025)