Package: minfi Version: 1.52.1 Command: /home/biocbuild/R/R/bin/R CMD build --keep-empty-dirs --no-resave-data minfi StartedAt: 2025-01-31 00:55:48 -0000 (Fri, 31 Jan 2025) EndedAt: 2025-01-31 00:57:43 -0000 (Fri, 31 Jan 2025) EllapsedTime: 115.0 seconds RetCode: 0 Status: OK PackageFile: minfi_1.52.1.tar.gz PackageFileSize: 575 KiB