Package: minet Version: 3.66.0 Command: rm -rf minet.buildbin-libdir && mkdir minet.buildbin-libdir && E:\biocbuild\bbs-3.21-bioc\R\bin\R.exe CMD INSTALL --build --library=minet.buildbin-libdir minet_3.66.0.tar.gz StartedAt: 2025-08-15 09:42:44 -0400 (Fri, 15 Aug 2025) EndedAt: 2025-08-15 09:42:59 -0400 (Fri, 15 Aug 2025) EllapsedTime: 14.8 seconds RetCode: 0 Status: OK PackageFile: minet_3.66.0.zip PackageFileSize: 143.8 KiB