Package: mina Version: 1.14.0 Command: /home/biocbuild/bbs-3.20-bioc/R/bin/R CMD build --keep-empty-dirs --no-resave-data --md5 mina StartedAt: 2025-01-02 18:05:25 -0500 (Thu, 02 Jan 2025) EndedAt: 2025-01-02 18:08:01 -0500 (Thu, 02 Jan 2025) EllapsedTime: 156.2 seconds RetCode: 0 Status: OK PackageFile: mina_1.14.0.tar.gz PackageFileSize: 4.022 MiB