Package: mina Version: 1.14.0 Command: /Library/Frameworks/R.framework/Resources/bin/R CMD build --keep-empty-dirs --no-resave-data mina StartedAt: 2025-01-03 03:12:14 -0500 (Fri, 03 Jan 2025) EndedAt: 2025-01-03 03:15:06 -0500 (Fri, 03 Jan 2025) EllapsedTime: 171.5 seconds RetCode: 0 Status: OK PackageFile: mina_1.14.0.tar.gz PackageFileSize: 4.018 MiB