Package: midasHLA Version: 1.14.0 Command: /home/biocbuild/R/R/bin/R CMD check --install=check:midasHLA.install-out.txt --library=/home/biocbuild/R/R/site-library --no-vignettes --timings midasHLA_1.14.0.tar.gz StartedAt: 2025-01-31 08:06:04 -0000 (Fri, 31 Jan 2025) EndedAt: 2025-01-31 08:11:55 -0000 (Fri, 31 Jan 2025) EllapsedTime: 350.5 seconds RetCode: 1 Status: ERROR CheckDir: midasHLA.Rcheck Warnings: NA