Package: microbiome Version: 1.28.0 Command: /home/biocbuild/R/R/bin/R CMD INSTALL microbiome StartedAt: 2025-01-30 20:55:29 -0000 (Thu, 30 Jan 2025) EndedAt: 2025-01-30 20:55:57 -0000 (Thu, 30 Jan 2025) EllapsedTime: 27.9 seconds RetCode: 0 Status: OK