Package: microSTASIS Version: 1.8.0 Command: chmod a+r microSTASIS -R && E:\biocbuild\bbs-3.21-bioc\R\bin\R.exe CMD build --keep-empty-dirs --no-resave-data microSTASIS StartedAt: 2025-08-14 20:25:26 -0400 (Thu, 14 Aug 2025) EndedAt: 2025-08-14 20:26:47 -0400 (Thu, 14 Aug 2025) EllapsedTime: 80.5 seconds RetCode: 1 Status: ERROR PackageFile: None PackageFileSize: NA