Package: microSTASIS Version: 1.8.0 Maintainer: Pedro Sánchez-Sánchez MaintainerEmail: bio.pedro.technology at gmail.com git_url: https://git.bioconductor.org/packages/microSTASIS git_branch: RELEASE_3_21 git_last_commit: 9539f1c git_last_commit_date: 2025-04-15 13:00:04 -0400 (Tue, 15 Apr 2025)