Package: miaTime Version: 1.0.0 Command: /home/biocbuild/bbs-3.22-bioc/R/bin/R CMD INSTALL miaTime StartedAt: 2025-11-02 16:13:56 -0500 (Sun, 02 Nov 2025) EndedAt: 2025-11-02 16:14:44 -0500 (Sun, 02 Nov 2025) EllapsedTime: 48.1 seconds RetCode: 0 Status: OK