Package: miaTime Version: 1.0.0 Command: /home/biocbuild/bbs-3.22-bioc/R/bin/R CMD build --keep-empty-dirs --no-resave-data --md5 miaTime StartedAt: 2025-11-02 18:55:46 -0500 (Sun, 02 Nov 2025) EndedAt: 2025-11-02 18:56:54 -0500 (Sun, 02 Nov 2025) EllapsedTime: 67.1 seconds RetCode: 0 Status: OK PackageFile: miaTime_1.0.0.tar.gz PackageFileSize: 6.33 MiB