Package: miaSim Version: 1.14.0 Command: /Library/Frameworks/R.framework/Resources/bin/R CMD INSTALL miaSim StartedAt: 2025-05-01 15:52:33 -0400 (Thu, 01 May 2025) EndedAt: 2025-05-01 15:53:36 -0400 (Thu, 01 May 2025) EllapsedTime: 63.1 seconds RetCode: 0 Status: OK