Package: miaSim Version: 1.14.0 Command: /Library/Frameworks/R.framework/Resources/bin/R CMD check --install=check:miaSim.install-out.txt --library=/Library/Frameworks/R.framework/Resources/library --no-vignettes --timings miaSim_1.14.0.tar.gz StartedAt: 2025-05-06 05:53:18 -0400 (Tue, 06 May 2025) EndedAt: 2025-05-06 06:05:33 -0400 (Tue, 06 May 2025) EllapsedTime: 735.6 seconds RetCode: 0 Status: OK CheckDir: miaSim.Rcheck Warnings: 0