Package: miaSim Version: 1.14.0 Command: /Library/Frameworks/R.framework/Resources/bin/R CMD INSTALL miaSim StartedAt: 2025-04-21 15:25:02 -0400 (Mon, 21 Apr 2025) EndedAt: 2025-04-21 15:25:42 -0400 (Mon, 21 Apr 2025) EllapsedTime: 39.6 seconds RetCode: 0 Status: OK