Package: miaSim Version: 1.12.0 Command: /Library/Frameworks/R.framework/Resources/bin/R CMD check --install=check:miaSim.install-out.txt --library=/Library/Frameworks/R.framework/Resources/library --no-vignettes --timings miaSim_1.12.0.tar.gz StartedAt: 2025-02-01 01:00:19 -0500 (Sat, 01 Feb 2025) EndedAt: 2025-02-01 01:05:55 -0500 (Sat, 01 Feb 2025) EllapsedTime: 336.6 seconds RetCode: 0 Status: OK CheckDir: miaSim.Rcheck Warnings: 0