Package: miaDash Version: 1.2.0 Command: /home/biocbuild/bbs-3.22-bioc/R/bin/R CMD INSTALL miaDash StartedAt: 2025-11-13 16:02:03 -0500 (Thu, 13 Nov 2025) EndedAt: 2025-11-13 16:02:49 -0500 (Thu, 13 Nov 2025) EllapsedTime: 46.6 seconds RetCode: 0 Status: OK