Package: miaDash Version: 1.2.0 Command: /home/biocbuild/bbs-3.22-bioc/R/bin/R CMD build --keep-empty-dirs --no-resave-data --md5 miaDash StartedAt: 2025-11-13 18:43:46 -0500 (Thu, 13 Nov 2025) EndedAt: 2025-11-13 18:44:47 -0500 (Thu, 13 Nov 2025) EllapsedTime: 61.1 seconds RetCode: 0 Status: OK PackageFile: miaDash_1.2.0.tar.gz PackageFileSize: 2.064 MiB