Package: mia Version: 1.16.0 Command: /Library/Frameworks/R.framework/Resources/bin/R CMD build --keep-empty-dirs --no-resave-data mia StartedAt: 2025-05-22 20:24:51 -0400 (Thu, 22 May 2025) EndedAt: 2025-05-22 20:29:16 -0400 (Thu, 22 May 2025) EllapsedTime: 265.2 seconds RetCode: 0 Status: OK PackageFile: mia_1.16.0.tar.gz PackageFileSize: 3.008 MiB