############################################################################## ############################################################################## ### ### Running command: ### ### /home/biocbuild/R/R/bin/R CMD check --install=check:mia.install-out.txt --library=/home/biocbuild/R/R/site-library --no-vignettes --timings mia_1.16.0.tar.gz ### ############################################################################## ############################################################################## * using log directory ‘/home/biocbuild/bbs-3.21-bioc/meat/mia.Rcheck’ * using R Under development (unstable) (2025-02-19 r87757) * using platform: aarch64-unknown-linux-gnu * R was compiled by aarch64-unknown-linux-gnu-gcc (GCC) 14.2.0 GNU Fortran (GCC) 14.2.0 * running under: openEuler 24.03 (LTS-SP1) * using session charset: UTF-8 * using option ‘--no-vignettes’ * checking for file ‘mia/DESCRIPTION’ ... OK * checking extension type ... Package * this is package ‘mia’ version ‘1.16.0’ * package encoding: UTF-8 * checking package namespace information ... OK * checking package dependencies ... INFO Imports includes 24 non-default packages. Importing from so many packages makes the package vulnerable to any of them becoming unavailable. Move as many as possible to Suggests and use conditionally. * checking if this is a source package ... OK * checking if there is a namespace ... OK * checking for hidden files and directories ... OK * checking for portable file names ... OK * checking for sufficient/correct file permissions ... OK * checking whether package ‘mia’ can be installed ... OK * used C++ compiler: ‘aarch64-unknown-linux-gnu-g++ (GCC) 14.2.0’ * checking installed package size ... INFO installed size is 7.2Mb sub-directories of 1Mb or more: data 1.6Mb extdata 1.2Mb libs 3.0Mb * checking package directory ... OK * checking ‘build’ directory ... OK * checking DESCRIPTION meta-information ... OK * checking top-level files ... OK * checking for left-over files ... OK * checking index information ... OK * checking package subdirectories ... OK * checking code files for non-ASCII characters ... OK * checking R files for syntax errors ... OK * checking whether the package can be loaded ... OK * checking whether the package can be loaded with stated dependencies ... OK * checking whether the package can be unloaded cleanly ... OK * checking whether the namespace can be loaded with stated dependencies ... OK * checking whether the namespace can be unloaded cleanly ... OK * checking loading without being on the library search path ... OK * checking whether startup messages can be suppressed ... OK * checking dependencies in R code ... NOTE 'library' or 'require' call to ‘topicdoc’ in package code. Please use :: or requireNamespace() instead. See section 'Suggested packages' in the 'Writing R Extensions' manual. * checking S3 generic/method consistency ... OK * checking replacement functions ... OK * checking foreign function calls ... OK * checking R code for possible problems ... NOTE .check_metadata_present: no visible binding for global variable ‘assay.type’ getRDA,ANY: no visible binding for global variable ‘dis’ Undefined global functions or variables: assay.type dis * checking Rd files ... OK * checking Rd metadata ... OK * checking Rd cross-references ... NOTE Package unavailable to check Rd xrefs: ‘picante’ Unknown package ‘https’ in Rd xrefs Non-topic package-anchored link(s) in Rd file 'calculateDMN.Rd': ‘[DirichletMultinomial:fitted]{accessors for DMN objects}’ See section 'Cross-references' in the 'Writing R Extensions' manual. Found the following Rd file(s) with Rd \link{} targets missing package anchors: addCluster.Rd: BlusterParam-class Please provide package anchors for all Rd \link{} targets not in the package itself and the base packages. * checking for missing documentation entries ... OK * checking for code/documentation mismatches ... OK * checking Rd \usage sections ... OK * checking Rd contents ... OK * checking for unstated dependencies in examples ... OK * checking contents of ‘data’ directory ... OK * checking data for non-ASCII characters ... OK * checking data for ASCII and uncompressed saves ... OK * checking line endings in C/C++/Fortran sources/headers ... OK * checking compiled code ... NOTE Note: information on .o files is not available * checking files in ‘vignettes’ ... OK * checking examples ... OK Examples with CPU (user + system) or elapsed time > 5s user system elapsed calculateDMN 112.470 0.021 112.617 addNMF 61.022 15.380 59.560 agglomerate-methods 34.862 2.734 37.701 hierarchy-tree 35.438 0.284 35.788 transformAssay 16.237 0.096 16.369 splitOn 16.135 0.052 16.234 getPrevalence 12.957 0.031 13.013 addAlpha 12.229 0.168 12.421 convertFromDADA2 11.513 0.566 12.119 addLDA 10.482 0.139 10.651 getCrossAssociation 10.479 0.016 10.515 utilization_functions 9.246 0.189 9.465 getDissimilarity 8.710 0.044 8.630 mergeSEs 8.272 0.076 8.446 summary 7.151 0.032 7.210 runCCA 5.857 0.152 6.023 * checking for unstated dependencies in ‘tests’ ... OK * checking tests ... Running ‘testthat.R’