Package: miRNApath Version: 1.66.0 Command: /home/biocbuild/R/R/bin/R CMD INSTALL miRNApath StartedAt: 2025-02-03 20:21:19 -0000 (Mon, 03 Feb 2025) EndedAt: 2025-02-03 20:21:29 -0000 (Mon, 03 Feb 2025) EllapsedTime: 9.8 seconds RetCode: 0 Status: OK