Package: miRNAmeConverter Version: 1.34.0 Command: /home/biocbuild/R/R/bin/R CMD check --install=check:miRNAmeConverter.install-out.txt --library=/home/biocbuild/R/R/site-library --no-vignettes --timings miRNAmeConverter_1.34.0.tar.gz StartedAt: 2025-01-31 08:09:25 -0000 (Fri, 31 Jan 2025) EndedAt: 2025-01-31 08:11:21 -0000 (Fri, 31 Jan 2025) EllapsedTime: 116.1 seconds RetCode: 0 Status: WARNINGS CheckDir: miRNAmeConverter.Rcheck Warnings: 1