Package: miRLAB Version: 1.38.0 Command: E:\biocbuild\bbs-3.21-bioc\R\bin\R.exe CMD INSTALL miRLAB StartedAt: 2025-08-14 16:43:38 -0400 (Thu, 14 Aug 2025) EndedAt: 2025-08-14 16:44:30 -0400 (Thu, 14 Aug 2025) EllapsedTime: 51.6 seconds RetCode: 0 Status: OK