Package: miRLAB Version: 1.38.0 Command: /home/biocbuild/bbs-3.21-bioc/R/bin/R CMD build --keep-empty-dirs --no-resave-data miRLAB StartedAt: 2025-10-05 18:34:52 -0400 (Sun, 05 Oct 2025) EndedAt: 2025-10-05 18:35:30 -0400 (Sun, 05 Oct 2025) EllapsedTime: 37.1 seconds RetCode: 0 Status: OK PackageFile: miRLAB_1.38.0.tar.gz PackageFileSize: 192.2 KiB