Package: miRLAB Version: 1.38.0 Maintainer: Thuc Duy Le MaintainerEmail: Thuc.Le at unisa.edu.au git_url: https://git.bioconductor.org/packages/miRLAB git_branch: RELEASE_3_21 git_last_commit: d0c4104 git_last_commit_date: 2025-04-15 10:52:10 -0400 (Tue, 15 Apr 2025)