Package: methylscaper Version: 1.16.0 Command: /home/biocbuild/bbs-3.21-bioc/R/bin/R CMD build --keep-empty-dirs --no-resave-data methylscaper StartedAt: 2025-09-28 18:41:41 -0400 (Sun, 28 Sep 2025) EndedAt: 2025-09-28 18:43:24 -0400 (Sun, 28 Sep 2025) EllapsedTime: 103.1 seconds RetCode: 0 Status: OK PackageFile: methylscaper_1.16.0.tar.gz PackageFileSize: 4.025 MiB