Package: methylscaper Version: 1.14.0 Command: rm -rf methylscaper.buildbin-libdir && mkdir methylscaper.buildbin-libdir && /Users/biocbuild/BBS/utils/build-universal.sh methylscaper_1.14.0.tar.gz /Library/Frameworks/R.framework/Resources/bin/R methylscaper.buildbin-libdir StartedAt: 2024-11-20 04:36:06 -0500 (Wed, 20 Nov 2024) EndedAt: 2024-11-20 04:36:51 -0500 (Wed, 20 Nov 2024) EllapsedTime: 45.0 seconds RetCode: 0 Status: OK PackageFile: methylscaper_1.14.0.tgz PackageFileSize: 3.208 MiB