Package: methylscaper Version: 1.16.0 Command: rm -rf methylscaper.buildbin-libdir && mkdir methylscaper.buildbin-libdir && /Users/biocbuild/BBS/utils/build-universal.sh methylscaper_1.16.0.tar.gz /Library/Frameworks/R.framework/Resources/bin/R methylscaper.buildbin-libdir StartedAt: 2025-10-15 19:17:31 -0400 (Wed, 15 Oct 2025) EndedAt: 2025-10-15 19:18:09 -0400 (Wed, 15 Oct 2025) EllapsedTime: 37.1 seconds RetCode: 0 Status: OK PackageFile: methylscaper_1.16.0.tgz PackageFileSize: 3.198 MiB