Package: methylKit Version: 1.34.0 Command: chmod a+r methylKit -R && E:\biocbuild\bbs-3.21-bioc\R\bin\R.exe CMD build --keep-empty-dirs --no-resave-data methylKit StartedAt: 2025-08-14 20:19:41 -0400 (Thu, 14 Aug 2025) EndedAt: 2025-08-14 20:21:58 -0400 (Thu, 14 Aug 2025) EllapsedTime: 136.9 seconds RetCode: 0 Status: OK PackageFile: methylKit_1.34.0.tar.gz PackageFileSize: 1.135 MiB