Package: methylKit Version: 1.34.0 Command: rm -rf methylKit.buildbin-libdir && mkdir methylKit.buildbin-libdir && E:\biocbuild\bbs-3.21-bioc\R\bin\R.exe CMD INSTALL --build --library=methylKit.buildbin-libdir methylKit_1.34.0.tar.gz StartedAt: 2025-08-15 09:40:57 -0400 (Fri, 15 Aug 2025) EndedAt: 2025-08-15 09:43:19 -0400 (Fri, 15 Aug 2025) EllapsedTime: 142.2 seconds RetCode: 0 Status: OK PackageFile: methylKit_1.34.0.zip PackageFileSize: 7.247 MiB