Package: methylKit Version: 1.34.0 Command: /Library/Frameworks/R.framework/Resources/bin/R CMD build --keep-empty-dirs --no-resave-data methylKit StartedAt: 2025-05-13 03:37:42 -0400 (Tue, 13 May 2025) EndedAt: 2025-05-13 03:39:18 -0400 (Tue, 13 May 2025) EllapsedTime: 96.5 seconds RetCode: 0 Status: OK PackageFile: methylKit_1.34.0.tar.gz PackageFileSize: 1.449 MiB