Package: methylGSA Version: 1.24.0 Command: /home/biocbuild/R/R/bin/R CMD INSTALL methylGSA StartedAt: 2025-01-30 21:12:51 -0000 (Thu, 30 Jan 2025) EndedAt: 2025-01-30 21:13:44 -0000 (Thu, 30 Jan 2025) EllapsedTime: 52.6 seconds RetCode: 0 Status: OK