Package: methylGSA Version: 1.26.0 Command: chmod a+r methylGSA -R && E:\biocbuild\bbs-3.21-bioc\R\bin\R.exe CMD build --keep-empty-dirs --no-resave-data methylGSA StartedAt: 2025-08-14 20:18:42 -0400 (Thu, 14 Aug 2025) EndedAt: 2025-08-14 20:20:55 -0400 (Thu, 14 Aug 2025) EllapsedTime: 133.1 seconds RetCode: 0 Status: OK PackageFile: methylGSA_1.26.0.tar.gz PackageFileSize: 3.113 MiB