Package: methyLImp2 Version: 1.2.0 Command: /home/biocbuild/R/R/bin/R CMD INSTALL methyLImp2 StartedAt: 2025-01-30 20:20:57 -0000 (Thu, 30 Jan 2025) EndedAt: 2025-01-30 20:21:21 -0000 (Thu, 30 Jan 2025) EllapsedTime: 24.2 seconds RetCode: 0 Status: OK