Package: methyLImp2 Version: 1.2.0 Command: F:\biocbuild\bbs-3.20-bioc\R\bin\R.exe CMD INSTALL methyLImp2 StartedAt: 2025-01-30 15:57:14 -0500 (Thu, 30 Jan 2025) EndedAt: 2025-01-30 15:57:45 -0500 (Thu, 30 Jan 2025) EllapsedTime: 30.6 seconds RetCode: 0 Status: OK