Package: methyLImp2 Version: 1.2.0 Command: chmod a+r methyLImp2 -R && F:\biocbuild\bbs-3.20-bioc\R\bin\R.exe CMD build --keep-empty-dirs --no-resave-data methyLImp2 StartedAt: 2025-01-30 20:02:20 -0500 (Thu, 30 Jan 2025) EndedAt: 2025-01-30 20:03:29 -0500 (Thu, 30 Jan 2025) EllapsedTime: 69.2 seconds RetCode: 0 Status: OK PackageFile: methyLImp2_1.2.0.tar.gz PackageFileSize: 1.261 MiB