Package: methyLImp2 Version: 1.2.0 Command: rm -rf methyLImp2.buildbin-libdir && mkdir methyLImp2.buildbin-libdir && F:\biocbuild\bbs-3.20-bioc\R\bin\R.exe CMD INSTALL --build --library=methyLImp2.buildbin-libdir methyLImp2_1.2.0.tar.gz StartedAt: 2025-01-31 09:01:31 -0500 (Fri, 31 Jan 2025) EndedAt: 2025-01-31 09:01:57 -0500 (Fri, 31 Jan 2025) EllapsedTime: 26.3 seconds RetCode: 0 Status: OK PackageFile: methyLImp2_1.2.0.zip PackageFileSize: 1.299 MiB