Package: methyLImp2 Version: 1.2.0 Command: rm -rf methyLImp2.buildbin-libdir && mkdir methyLImp2.buildbin-libdir && /Users/biocbuild/BBS/utils/build-universal.sh methyLImp2_1.2.0.tar.gz /Library/Frameworks/R.framework/Resources/bin/R methyLImp2.buildbin-libdir StartedAt: 2025-02-11 13:44:15 -0500 (Tue, 11 Feb 2025) EndedAt: 2025-02-11 13:45:30 -0500 (Tue, 11 Feb 2025) EllapsedTime: 75.1 seconds RetCode: 0 Status: OK PackageFile: methyLImp2_1.2.0.tgz PackageFileSize: 1.294 MiB